BEGIN:VCALENDAR
VERSION:2.0
PRODID:icalendar-ruby
CALSCALE:GREGORIAN
METHOD:PUBLISH
BEGIN:VEVENT
DTSTAMP:20260423T170358Z
UID:143-5254439@njbchurch.org
DTSTART:20260906T134500Z
DTEND:20260906T144500Z
CLASS:PUBLIC
CREATED:20260423T130046
DESCRIPTION:C.L.I.C.K. Faith Refresher (Sunday School)\nFrom the CLICK Corn
 er: We invite everyone including leaders\, young adults\, and teens to joi
 n this faith refresher every Sunday at 9:45 am as we go deeper in the word
  to build a strong foundation in Christ. We can all learn from this powerf
 ul teaching.
LAST-MODIFIED:20260423T130046
LOCATION:NJBC Fellowship Hall
SUMMARY:Sunday School
URL;VALUE=URI:https://www.njbchurch.org/events/sunday-school--143/2026-09-0
 6
ATTACH;FILENAME=Colorful Modern Sunday Pray Service Instagram Post.jpg;FMTT
 YPE=image/jpeg:https://dq5pwpg1q8ru0.cloudfront.net/2025/07/26/21/04/08/a8
 62ae97-05b5-482a-ad2b-0217f10c04a7/Colorful%20Modern%20Sunday%20Pray%20Ser
 vice%20Instagram%20Post.jpg
END:VEVENT
END:VCALENDAR
