BEGIN:VCALENDAR
VERSION:2.0
PRODID:icalendar-ruby
CALSCALE:GREGORIAN
METHOD:PUBLISH
BEGIN:VEVENT
DTSTAMP:20260423T010123Z
UID:18-5240185@njbchurch.org
DTSTART:20220504T110000Z
DTEND:20220504T111000Z
CLASS:PUBLIC
CREATED:20260422T185026
DESCRIPTION:START YOUR WEEKDAY MORNINGS WITH DEVOTION WITH PASTOR COLLINS A
 T 7:00 AM. START YOUR DAY WITH THE WORD!\nCall 267.807.9692.\nThe access c
 ode is 555764#
LAST-MODIFIED:20260422T185026
LOCATION:Phone
SUMMARY:Spiritual Coffee
URL;VALUE=URI:https://www.njbchurch.org/events/spiritual-coffee--18/2022-05
 -04
END:VEVENT
END:VCALENDAR
